BEGIN:VCALENDAR
VERSION:2.0
PRODID:-//Stickmen Brewing company - ECPv6.15.13.1//NONSGML v1.0//EN
CALSCALE:GREGORIAN
METHOD:PUBLISH
X-WR-CALNAME:Stickmen Brewing company
X-ORIGINAL-URL:https://stickmenbeer.com
X-WR-CALDESC:Events for Stickmen Brewing company
REFRESH-INTERVAL;VALUE=DURATION:PT1H
X-Robots-Tag:noindex
X-PUBLISHED-TTL:PT1H
BEGIN:VTIMEZONE
TZID:America/Los_Angeles
BEGIN:DAYLIGHT
TZOFFSETFROM:-0800
TZOFFSETTO:-0700
TZNAME:PDT
DTSTART:20250309T100000
END:DAYLIGHT
BEGIN:STANDARD
TZOFFSETFROM:-0700
TZOFFSETTO:-0800
TZNAME:PST
DTSTART:20251102T090000
END:STANDARD
BEGIN:DAYLIGHT
TZOFFSETFROM:-0800
TZOFFSETTO:-0700
TZNAME:PDT
DTSTART:20260308T100000
END:DAYLIGHT
BEGIN:STANDARD
TZOFFSETFROM:-0700
TZOFFSETTO:-0800
TZNAME:PST
DTSTART:20261101T090000
END:STANDARD
BEGIN:DAYLIGHT
TZOFFSETFROM:-0800
TZOFFSETTO:-0700
TZNAME:PDT
DTSTART:20270314T100000
END:DAYLIGHT
BEGIN:STANDARD
TZOFFSETFROM:-0700
TZOFFSETTO:-0800
TZNAME:PST
DTSTART:20271107T090000
END:STANDARD
END:VTIMEZONE
BEGIN:VEVENT
DTSTART;TZID=America/Los_Angeles:20260302T180000
DTEND;TZID=America/Los_Angeles:20260302T193000
DTSTAMP:20260423T201419
CREATED:20260217T192734Z
LAST-MODIFIED:20260217T192734Z
UID:5510-1772474400-1772479800@stickmenbeer.com
SUMMARY:Bingo Night @ Stickmen Tualatin
DESCRIPTION:Every first Monday of the month!
URL:https://stickmenbeer.com/calendars/bingo-night-stickmen-tualatin/
LOCATION:Stickmen Tualatin\, 19475 SW 118th Ave\, Tualatin\, OR\, 97062\, United States
END:VEVENT
BEGIN:VEVENT
DTSTART;TZID=America/Los_Angeles:20260304T180000
DTEND;TZID=America/Los_Angeles:20260304T200000
DTSTAMP:20260423T201419
CREATED:20260217T192556Z
LAST-MODIFIED:20260217T192556Z
UID:5506-1772647200-1772654400@stickmenbeer.com
SUMMARY:Trivia Night @ Stickmen Happy Valley
DESCRIPTION:Join us for weekly trivia at our Happy Valley location 6-8pm every Wednesday. \n  \nFree to play | Win Gift Cards! \nHosted by: Last Call Trivia (Brick Andrews)
URL:https://stickmenbeer.com/calendars/trivia-night-stickmen-happy-valley/
LOCATION:Stickmen Happy Valley\, 13100 SE 172nd Ave\, Happy Valley\, OR\, 97086\, United States
END:VEVENT
BEGIN:VEVENT
DTSTART;TZID=America/Los_Angeles:20260304T180000
DTEND;TZID=America/Los_Angeles:20260304T200000
DTSTAMP:20260423T201419
CREATED:20260217T192642Z
LAST-MODIFIED:20260302T170100Z
UID:5508-1772647200-1772654400@stickmenbeer.com
SUMMARY:Trivia Night @ Stickmen Happy Valley
DESCRIPTION:Join us for weekly trivia at our Happy Valley location 6-8pm every Wednesday. \nMarch 4th trivia – $1 off all pints and pizzas 2-8pm! \n  \nFree to play | Win Gift Cards! \nHosted by: Last Call Trivia (Brick Andrews)
URL:https://stickmenbeer.com/calendars/trivia-night-stickmen-happy-valley-2/
LOCATION:Stickmen Happy Valley\, 13100 SE 172nd Ave\, Happy Valley\, OR\, 97086\, United States
END:VEVENT
BEGIN:VEVENT
DTSTART;TZID=America/Los_Angeles:20260307T100000
DTEND;TZID=America/Los_Angeles:20260307T130000
DTSTAMP:20260423T201419
CREATED:20260302T165221Z
LAST-MODIFIED:20260302T165221Z
UID:5522-1772877600-1772888400@stickmenbeer.com
SUMMARY:5k Fun Run @ Happy Valley
DESCRIPTION:Register Here \nJoin us on March 7\, 2026\, for a 5K fun run/walk and great beer at Stickmen Brewing in Happy Valley\, OR! \n\n\n\n\n5k Fun Run Stickmen Brewing Co | Part of the 2026 Oregon Brewery Running Series \nJoin us for a fun-filled day of running\, beer\, and good vibes at Stickmen Brewing in Happy Valley\, OR. \nLace up your running shoes – we’ve mapped out a 5k-ish course that starts and ends at this awesome taproom in Happy Valley. Run\, walk or jog before celebrating with a locally-made craft beverage at the finish line. \nWhether you’re a seasoned runner or just looking for a fun way to stay active\, this event is fun for all. The 5k course will take you through scenic routes\, allowing you to enjoy the beautiful surroundings while getting your heart pumping. \nAfter crossing the finish line\, reward yourself with a well-deserved pint of craft beer from Stickmen Brewing. Nothing beats the feeling of accomplishment and the taste of a refreshing brew! \nSo gather your friends and come join us at Stickmen Brewing March 7. It’s going to be a day filled with beer run fun. See you there! \nAll participants receive: \n\n(1) craft brew at the finish line from Stickmen Brewing\nCollector’s seasonal swag item from the Brewery Running Series\nA chance to win sweet prizes\, like Brewery Running Series merchandise or beer to take home\nAnd more!\n\nOur mission is to be active\, have fun and give back. A portion of all proceeds from our events supports local nonprofits – over $500k raised to date! This event will add to that tally by donating 10% to one of our non-profit partners. So not only do you get to enjoy some healthy activity and great\, local beer – you are helping us support local organizations that do important work in our community. \nRegistration is limited to the size of the taproom and many of our events sell out. Sign up today!
URL:https://stickmenbeer.com/calendars/5k-fun-run-happy-valley-2/
LOCATION:Stickmen Happy Valley\, 13100 SE 172nd Ave\, Happy Valley\, OR\, 97086\, United States
END:VEVENT
BEGIN:VEVENT
DTSTART;TZID=America/Los_Angeles:20260319T160000
DTEND;TZID=America/Los_Angeles:20260319T200000
DTSTAMP:20260423T201419
CREATED:20260309T213633Z
LAST-MODIFIED:20260309T213633Z
UID:5534-1773936000-1773950400@stickmenbeer.com
SUMMARY:Meet the Brewers: Stickmen Open House
DESCRIPTION:Our brewing team would like to invite you to our Happy Valley taproom on Thursday\, March 19th 4pm for our first ever Meet the Brewers: Stickmen Open House.\n\nFree samples – Discounted Beer Flights – Meet the Brewers – New Beer Release – Live Music – Extended Happy Hour – Prizes And More!\n\nCome Find Out What Makes Stickmen Beer Special!
URL:https://stickmenbeer.com/calendars/meet-the-brewers-stickmen-open-house/
LOCATION:Stickmen Happy Valley\, 13100 SE 172nd Ave\, Happy Valley\, OR\, 97086\, United States
ATTACH;FMTTYPE=image/jpeg:https://stickmenbeer.com/wp-content/uploads/2026/03/9DC7A99D-B61F-4C97-B075-AEDD47EE8521-e1773092083849.jpg
END:VEVENT
END:VCALENDAR